BEGIN:VCALENDAR
VERSION:2.0
PRODID:-//Tukios.com/
BEGIN:VEVENT
UID:19f46130-2b37-4c93-9656-a72315592a6a@www.bevilbrosfuneralhomes.com
DTSTAMP:20260420T184213Z
DTSTART:20260424T180000Z
DTEND:20260424T190000Z
SUMMARY:Burial
DESCRIPTION:
URL:https://www.bevilbrosfuneralhomes.com/obituaries/peggy-leach
LOCATION:Mt. Carmel Baptist Church Cemetery 607 Buford Rd.  Utica KY 
	42376
GEO:37.5541002;-86.9817374
END:VEVENT
END:VCALENDAR