BEGIN:VCALENDAR
VERSION:2.0
PRODID:-//Tukios.com/
BEGIN:VEVENT
UID:b95efb5a-8d22-4f0c-a6c8-48f4679a5a40@www.bevilbrosfuneralhomes.com
DTSTAMP:20260420T184452Z
DTSTART:20260424T160000Z
DTEND:20260424T180000Z
SUMMARY:Visitation
DESCRIPTION:
URL:https://www.bevilbrosfuneralhomes.com/obituaries/peggy-leach
LOCATION:Bevil Bros. Funeral Home 226 Louisville Rd  Beaver Dam KY 42320
GEO:37.4150646;-86.873825
END:VEVENT
END:VCALENDAR