BEGIN:VCALENDAR
VERSION:2.0
PRODID:-//Tukios.com/
BEGIN:VEVENT
UID:1d6eb0b0-ac95-4dc1-acc2-6f3dfacb0697@www.bevilbrosfuneralhomes.com
DTSTAMP:20260423T211030Z
DTSTART:20260425T190000Z
DTEND:20260425T200000Z
SUMMARY:Funeral Service
DESCRIPTION:
URL:https://www.bevilbrosfuneralhomes.com/obituaries/lela-foster
LOCATION:Bevil Bros. Funeral Home 226 Louisville Rd  Beaver Dam KY 42320
GEO:37.4150646;-86.873825
END:VEVENT
END:VCALENDAR