BEGIN:VCALENDAR
VERSION:2.0
PRODID:-//Tukios.com/
BEGIN:VEVENT
UID:80283093-ba87-4c92-b57b-e9062c05ee31@www.bevilbrosfuneralhomes.com
DTSTAMP:20260423T210812Z
DTSTART:20260425T150000Z
DTEND:20260425T190000Z
SUMMARY:Visitation
DESCRIPTION:
URL:https://www.bevilbrosfuneralhomes.com/obituaries/lela-foster
LOCATION:Bevil Bros. Funeral Home 226 Louisville Rd  Beaver Dam KY 42320
GEO:37.4150646;-86.873825
END:VEVENT
END:VCALENDAR