BEGIN:VCALENDAR
VERSION:2.0
PRODID:-//Tukios.com/
BEGIN:VEVENT
UID:fa7c4786-0532-4acd-97d7-01ac9a5314fc@www.bevilbrosfuneralhomes.com
DTSTAMP:20260423T232825Z
DTSTART:20260427T170000Z
DTEND:20260427T180000Z
SUMMARY:Burial
DESCRIPTION:
URL:https://www.bevilbrosfuneralhomes.com/obituaries/caroline-brown
LOCATION:Resurrection Cemetery Hwy 54  Owensboro KY 42303
GEO:37.7546653;-87.062876
END:VEVENT
END:VCALENDAR