BEGIN:VCALENDAR
VERSION:2.0
PRODID:-//Tukios.com/
BEGIN:VEVENT
UID:0f7d7cc9-7900-4ba0-9a62-0c9682bfe76f@www.bevilbrosfuneralhomes.com
DTSTAMP:20260423T232633Z
DTSTART:20260427T160000Z
DTEND:20260427T170000Z
SUMMARY:Funeral Service
DESCRIPTION:
URL:https://www.bevilbrosfuneralhomes.com/obituaries/caroline-brown
LOCATION:Holy Redeemer Catholic Church 107 West 13th Street  Beaver Dam 
	KY 42320
GEO:37.417439;-86.8812668
END:VEVENT
END:VCALENDAR