BEGIN:VCALENDAR
VERSION:2.0
PRODID:-//Tukios.com/
BEGIN:VEVENT
UID:307fe403-28e5-46fd-ab19-08be5462c7a5@www.bevilbrosfuneralhomes.com
DTSTAMP:20260423T232610Z
DTSTART:20260427T150000Z
DTEND:20260427T160000Z
SUMMARY:Visitation
DESCRIPTION:
URL:https://www.bevilbrosfuneralhomes.com/obituaries/caroline-brown
LOCATION:Holy Redeemer Catholic Church 107 West 13th Street  Beaver Dam 
	KY 42320
GEO:37.417439;-86.8812668
END:VEVENT
END:VCALENDAR