BEGIN:VCALENDAR
VERSION:2.0
PRODID:-//Tukios.com/
BEGIN:VEVENT
UID:601edd77-f0ec-4521-9178-bd5cfa9b6e36@www.bevilbrosfuneralhomes.com
DTSTAMP:20260423T232455Z
DTSTART:20260426T203000Z
DTEND:20260426T213000Z
SUMMARY:Prayer Service
DESCRIPTION:
URL:https://www.bevilbrosfuneralhomes.com/obituaries/caroline-brown
LOCATION:Bevil Bros. Funeral Home 226 Louisville Rd  Beaver Dam KY 42320
GEO:37.4150646;-86.873825
END:VEVENT
END:VCALENDAR