BEGIN:VCALENDAR
VERSION:2.0
PRODID:-//Tukios.com/
BEGIN:VEVENT
UID:9e1f98ba-a8da-41fe-a2ea-c9c5f396416c@www.bevilbrosfuneralhomes.com
DTSTAMP:20260423T232526Z
DTSTART:20260426T180000Z
DTEND:20260426T210000Z
SUMMARY:Visitation
DESCRIPTION:
URL:https://www.bevilbrosfuneralhomes.com/obituaries/caroline-brown
LOCATION:Bevil Bros. Funeral Home 226 Louisville Rd  Beaver Dam KY 42320
GEO:37.4150646;-86.873825
END:VEVENT
END:VCALENDAR